BEGIN:VCALENDAR
VERSION:2.0
PRODID:-//Fintan Vallely//NONSGML v1.0//EN
CALSCALE:GREGORIAN
METHOD:PUBLISH
X-WR-CALNAME:Fintan Vallely
X-ORIGINAL-URL:http://imusic.ie
X-WR-CALDESC:Events for Fintan Vallely
X-WR-TIMEZONE:Europe/Dublin
BEGIN:VEVENT
DTSTART;VALUE=DATE:20120715
DTEND;VALUE=DATE:20120722
DTSTAMP:20171107T173839
CREATED:20120125T150352
LAST-MODIFIED:20120529T152657
UID:945@http://imusic.ie
SUMMARY:Catskills Irish Music Week, New York
DESCRIPTION:Teaching flute for the week and launching the Companion mid week
LOCATION:East Durham
URL:http://imusic.ie/event/catskills-irish-music-week-new-york/
END:VEVENT
END:VCALENDAR