BEGIN:VCALENDAR
VERSION:2.0
PRODID:-//Fintan Vallely//NONSGML v1.0//EN
CALSCALE:GREGORIAN
METHOD:PUBLISH
X-WR-CALNAME:Fintan Vallely
X-ORIGINAL-URL:http://imusic.ie
X-WR-CALDESC:Events for Fintan Vallely
X-WR-TIMEZONE:Europe/Dublin
BEGIN:VEVENT
DTSTART;VALUE=DATE-TIME:20151013T080000
DTEND;VALUE=DATE-TIME:20151013T170000
DTSTAMP:20171107T171543
CREATED:20150421T160941
LAST-MODIFIED:20151204T103802
UID:1956@http://imusic.ie
SUMMARY:Celtic Colours, Cape Breton with Liz Doherty & Gino Lipari
DESCRIPTION:
LOCATION:
URL:http://imusic.ie/event/celtic-colours-cape-breton-with-liz-doherty-gino-lipari/
END:VEVENT
END:VCALENDAR