BEGIN:VCALENDAR
VERSION:2.0
PRODID:-//Fintan Vallely//NONSGML v1.0//EN
CALSCALE:GREGORIAN
METHOD:PUBLISH
X-WR-CALNAME:Fintan Vallely
X-ORIGINAL-URL:http://imusic.ie
X-WR-CALDESC:Events for Fintan Vallely
X-WR-TIMEZONE:Europe/Dublin
BEGIN:VEVENT
DTSTART;VALUE=DATE-TIME:20140531T190000
DTEND;VALUE=DATE-TIME:20140531T210000
DTSTAMP:20171107T172103
CREATED:20140515T103712
LAST-MODIFIED:20140515T230437
UID:1735@http://imusic.ie
SUMMARY:China meets Ireland at St. Patrick's, Dublin
DESCRIPTION:    China Meets Ireland is an inter-cultural programme presenting two eras of Chinese and Irish music featuring traditional Chinese music from a thousand year tradition and new music from China written in the past 10 years.    Ireland’s heritage of traditional music is presented with airs and dance tunes on fiddle and concert flute\, Irish Harp and Guitar. New Irish music is represented by John Buckley’s I Am Wind On Sea for solo voice\, and a selection from A GIRL by Seoirse Bodley with poetry by Brendan Kennelly.    A new work by the renowned Chinese composer Zhao Xi using similar ancient Chinese and old Irish poetry\, voice\, piano and Gu Zheng will be premiered.    Zhao Xi\, Composer and Piano    Li Da Xin and Aylish Kerrigan\, Singers    Gu Ling-Ying and Dearbhla Collins\, Piano    Zhou Ke Qi\, Bamboo Flute and Qun    Liu Le\, Gu Zheng; Fintan Vallely\, Flute    Wan Ji\, Er Hu; Gerry O’ Connor\, Fiddle    Anne-Marie O’Farrell\, Irish Harp    John Feeley\, Guitar    Thursday\, 29 May\, 1.15 pm St. Ann´s Church\, Dublin    Saturday\, 31 May\, 7.00 pm St. Patrick´s Cathedral\, Dublin    Full details on times and tickets at  www.cny.ie     
LOCATION:Patrick St.
URL:http://imusic.ie/event/china-music-exchange-at-st-patricks-dublin/
END:VEVENT
END:VCALENDAR