BEGIN:VCALENDAR
VERSION:2.0
PRODID:-//Fintan Vallely//NONSGML v1.0//EN
CALSCALE:GREGORIAN
METHOD:PUBLISH
X-WR-CALNAME:Fintan Vallely
X-ORIGINAL-URL:http://imusic.ie
X-WR-CALDESC:Events for Fintan Vallely
X-WR-TIMEZONE:Europe/Dublin
BEGIN:VEVENT
DTSTART;VALUE=DATE:20130526
DTEND;VALUE=DATE:20130527
DTSTAMP:20171107T172824
CREATED:20130515T081836
LAST-MODIFIED:20130515T081836
UID:1405@http://imusic.ie
SUMMARY:CLANN AGUS CAIRDE, Séamus Ennis Centre, Naul, Dublin, with Gerry O'Connor
DESCRIPTION:Hosted by Donegal fiddler Tara Connaghan\, Clann agus Cairde welcomes Gerry O'Connor (fiddle)\, Fintan Vallely (flute) and Melissa Hayes (guitar / fiddle).The music celebrates the style and repertoire of South Ulster.
LOCATION:The square
URL:http://imusic.ie/event/clann-agus-cairde-seamus-ennis-centre-naul-dublin-with-gerry-oconnor/
END:VEVENT
END:VCALENDAR