BEGIN:VCALENDAR
VERSION:2.0
PRODID:-//Fintan Vallely//NONSGML v1.0//EN
CALSCALE:GREGORIAN
METHOD:PUBLISH
X-WR-CALNAME:Fintan Vallely
X-ORIGINAL-URL:http://imusic.ie
X-WR-CALDESC:Events for Fintan Vallely
X-WR-TIMEZONE:Europe/Dublin
BEGIN:VEVENT
DTSTART;VALUE=DATE:20120707
DTEND;VALUE=DATE:20120708
DTSTAMP:20171107T173715
CREATED:20120519T171058
LAST-MODIFIED:20130715T121703
UID:1012@http://imusic.ie
SUMMARY:Clare launch of Companion by Neil Rosenberg, Spanish Point
DESCRIPTION:The Companion will be formally launched as on the opening Sunday of Scoil Samhraidh Willie Clancy by Neil Rosenberg (author of 'Transforming Tradition') on Sunday afternoon at The Convent\, Spanish Point.
LOCATION:
URL:http://imusic.ie/event/clare-launch-of-companion-by-neil-rosenberg/
END:VEVENT
END:VCALENDAR