BEGIN:VCALENDAR
VERSION:2.0
PRODID:-//Fintan Vallely//NONSGML v1.0//EN
CALSCALE:GREGORIAN
METHOD:PUBLISH
X-WR-CALNAME:Fintan Vallely
X-ORIGINAL-URL:http://imusic.ie
X-WR-CALDESC:Events for Fintan Vallely
X-WR-TIMEZONE:Europe/Dublin
BEGIN:VEVENT
DTSTART;VALUE=DATE:20121007
DTEND;VALUE=DATE:20121008
DTSTAMP:20171107T173604
CREATED:20121002T132213
LAST-MODIFIED:20130130T233821
UID:1126@http://imusic.ie
SUMMARY:Club concert at Circolo ARCI arcobaleno (Roma)
DESCRIPTION:Club venue performance at  Circolo ARCI arcobaleno\,Garbatella area\, on the evening of Sunday\, 7th October. Full details on Club website. 21.30pm
LOCATION:Garbatella
URL:http://imusic.ie/event/club-concert-at-rome/
END:VEVENT
END:VCALENDAR