BEGIN:VCALENDAR
VERSION:2.0
PRODID:-//Fintan Vallely//NONSGML v1.0//EN
CALSCALE:GREGORIAN
METHOD:PUBLISH
X-WR-CALNAME:Fintan Vallely
X-ORIGINAL-URL:http://imusic.ie
X-WR-CALDESC:Events for Fintan Vallely
X-WR-TIMEZONE:Europe/Dublin
BEGIN:VEVENT
DTSTART;VALUE=DATE:20140504
DTEND;VALUE=DATE:20140505
DTSTAMP:20171107T172127
CREATED:20140515T102726
LAST-MODIFIED:20140515T102726
UID:1729@http://imusic.ie
SUMMARY:Compánach at Drogheda Arts Festival
DESCRIPTION:Performance with Gerry O'Connor at the Millmount Traditional Day. Workshop (2.30)  and concert appearance (4.30).
LOCATION:Millmount
URL:http://imusic.ie/event/companach-at-drogheda-arts-festival/
END:VEVENT
END:VCALENDAR