BEGIN:VCALENDAR
VERSION:2.0
PRODID:-//Fintan Vallely//NONSGML v1.0//EN
CALSCALE:GREGORIAN
METHOD:PUBLISH
X-WR-CALNAME:Fintan Vallely
X-ORIGINAL-URL:http://imusic.ie
X-WR-CALDESC:Events for Fintan Vallely
X-WR-TIMEZONE:Europe/Dublin
BEGIN:VEVENT
DTSTART;VALUE=DATE-TIME:20151010T200000
DTEND;VALUE=DATE-TIME:20151010T230000
DTSTAMP:20171107T171702
CREATED:20150330T112813
LAST-MODIFIED:20151204T105326
UID:1909@http://imusic.ie
SUMMARY:Compánach at Duncairn Arts Centre, Belfast
DESCRIPTION:A fast-moving\, audio-visual recital of Traditional Irish music\, song and dance by Gerry O'Connor\, Roisín Chambers\, Fintan Vallely\, Sibéal Davitt and Tiarnán Ó  Duinnchín who perform in front of a changing\, narrative backdrop of large-screen photographs by Jacques Nutan. The 90-minute show expresses the artistic depth\, finesse\, contexts and variety of the music as described in the new encyclopedia Companion to Irish Traditional Music. Based on the format of the book\, the concert covers all Irish counties and regions\, demonstrating hallmark styles and repertoire. For students of the music and of Irish culture this is a wonderful melodic display of information; for aficionados it is an exceptionally vibrant presentation of solo and group playing\, sean-nós step-dance and singing. Further details on Duncairn website. 
LOCATION:Duncairn Avenue
URL:http://imusic.ie/event/companach-at-duncairn-arts-centre-belfast/
END:VEVENT
END:VCALENDAR