BEGIN:VCALENDAR
VERSION:2.0
PRODID:-//Fintan Vallely//NONSGML v1.0//EN
CALSCALE:GREGORIAN
METHOD:PUBLISH
X-WR-CALNAME:Fintan Vallely
X-ORIGINAL-URL:http://imusic.ie
X-WR-CALDESC:Events for Fintan Vallely
X-WR-TIMEZONE:Europe/Dublin
BEGIN:VEVENT
DTSTART;VALUE=DATE-TIME:20150320T200000
DTEND;VALUE=DATE-TIME:20150320T220000
DTSTAMP:20171107T171907
CREATED:20150226T082212
LAST-MODIFIED:20150226T173541
UID:1883@http://imusic.ie
SUMMARY:Compánach audio-visual concert at Áras Chrónáin, Clondalkin, Co. Dublin
DESCRIPTION:A fast-moving\, audio-visual recital of Traditional Irish music\, song and dance by Gerry O'Connor\, Roisín Chambers\, Fintan Vallely\, Sibéal Davitt and Tiarnán Ó  Duinnchín who perform in front of a changing\, narrative backdrop of large-screen photographs by Jacques Nutan. The 90-minute show expresses the artistic depth\, finesse and variety of the music as described in the remarkable encyclopedia Companion to Irish Traditional Music. Based on the format of the book\, the concert covers all Irish counties and regions\, demonstrating hallmark styles and repertoire. For students of the music and of Irish culture this is a wonderful melodic display of information; for aficionados it is an exceptionally vibrant presentation of solo and group playing\, sean-nós step-dance and singing.    Starts 8pm    Gig details    Download Compánach brochure (Irish and English)    Further details
LOCATION:
URL:http://imusic.ie/event/companach-audio-visual-concert-at-aras-chronain-clondalkin-co-dublin/
END:VEVENT
END:VCALENDAR