BEGIN:VCALENDAR
VERSION:2.0
PRODID:-//Fintan Vallely//NONSGML v1.0//EN
CALSCALE:GREGORIAN
METHOD:PUBLISH
X-WR-CALNAME:Fintan Vallely
X-ORIGINAL-URL:http://imusic.ie
X-WR-CALDESC:Events for Fintan Vallely
X-WR-TIMEZONE:Europe/Dublin
BEGIN:VEVENT
DTSTART;VALUE=DATE:20131218
DTEND;VALUE=DATE:20131219
DTSTAMP:20171107T172341
CREATED:20131014T221522
LAST-MODIFIED:20131210T042725
UID:1564@http://imusic.ie
SUMMARY:Compánach concert at Irish College, Leuven, Belgium
DESCRIPTION:Compánach - a high-information\, music performance event developed around the book\, ebook and website Companion to Irish Traditional Music\, at The Leuven Institute for Ireland\, Leuven\, Belgium.    A live music and song concert performance which is integrated with visual imagery. It offers a history of Irish Traditional music through live performance\, supporting sounds and background imagery - a structured interpretation in an historical framework. Fintan Vallely with Gerry O’Connor\,  fiddle\,  Tiarnán Ó Duinncín uilleann pipes; and Máire Ní Choilm\, song in Irish and English.
LOCATION:
URL:http://imusic.ie/event/companach-concert-at-irish-college-leuven-belgium/
END:VEVENT
END:VCALENDAR