BEGIN:VCALENDAR
VERSION:2.0
PRODID:-//Fintan Vallely//NONSGML v1.0//EN
CALSCALE:GREGORIAN
METHOD:PUBLISH
X-WR-CALNAME:Fintan Vallely
X-ORIGINAL-URL:http://imusic.ie
X-WR-CALDESC:Events for Fintan Vallely
X-WR-TIMEZONE:Europe/Dublin
BEGIN:VEVENT
DTSTART;VALUE=DATE:20131218
DTEND;VALUE=DATE:20131219
DTSTAMP:20171107T172306
CREATED:20131230T202458
LAST-MODIFIED:20131230T202458
UID:1640@http://imusic.ie
SUMMARY:Compánach concert presentation at the Leuven Institute, Belgium
DESCRIPTION:Compánach concert presentation in the old Irish College. 8pm.
LOCATION:
URL:http://imusic.ie/event/companach-concert-presentation-at-the-leuven-institute-belgium/
END:VEVENT
END:VCALENDAR