BEGIN:VCALENDAR
VERSION:2.0
PRODID:-//Fintan Vallely//NONSGML v1.0//EN
CALSCALE:GREGORIAN
METHOD:PUBLISH
X-WR-CALNAME:Fintan Vallely
X-ORIGINAL-URL:http://imusic.ie
X-WR-CALDESC:Events for Fintan Vallely
X-WR-TIMEZONE:Europe/Dublin
BEGIN:VEVENT
DTSTART;VALUE=DATE:20120524
DTEND;VALUE=DATE:20120525
DTSTAMP:20171107T173730
CREATED:20120519T165833
LAST-MODIFIED:20131014T140422
UID:1007@http://imusic.ie
SUMMARY:Companion Launch and performance with Martin Dowling (fiddle), Ranelagh Arts Centre, Dublin
DESCRIPTION:On Thursday\, 24th May\, 7pm there will be a local launch of The Companion at the Ranelagh Arts Centre\, Dublin 6. Following this at c. 8pm fintan will play a concert with Chicago/Belfast fiddler Martin Dowling who is also one of the main contributors to The Companion. Books will be available at a 12% discount at this event.
LOCATION:Ranelagh
URL:http://imusic.ie/event/companion-launch-and-performance-with-martin-dowling-fiddle-ranelagh-arts-centre-dublin/
END:VEVENT
END:VCALENDAR