BEGIN:VCALENDAR
VERSION:2.0
PRODID:-//Fintan Vallely//NONSGML v1.0//EN
CALSCALE:GREGORIAN
METHOD:PUBLISH
X-WR-CALNAME:Fintan Vallely
X-ORIGINAL-URL:http://imusic.ie
X-WR-CALDESC:Events for Fintan Vallely
X-WR-TIMEZONE:Europe/Dublin
BEGIN:VEVENT
DTSTART;VALUE=DATE:20120704
DTEND;VALUE=DATE:20120705
DTSTAMP:20171107T173619
CREATED:20120529T150109
LAST-MODIFIED:20120604T023544
UID:1036@http://imusic.ie
SUMMARY:Contemporary Irish Traditional Music - performance and talk
DESCRIPTION:Performance / lecture on Irish traditional music\, its instruments\, history and practice today\, given to USIT International  Summer School at Trinity College Dublin.
LOCATION:College Green
URL:http://imusic.ie/event/contemporary-irish-traditional-music-performance-and-talk-2/
END:VEVENT
END:VCALENDAR