BEGIN:VCALENDAR
VERSION:2.0
PRODID:-//Fintan Vallely//NONSGML v1.0//EN
CALSCALE:GREGORIAN
METHOD:PUBLISH
X-WR-CALNAME:Fintan Vallely
X-ORIGINAL-URL:http://imusic.ie
X-WR-CALDESC:Events for Fintan Vallely
X-WR-TIMEZONE:Europe/Dublin
BEGIN:VEVENT
DTSTART;VALUE=DATE-TIME:20150424T170000
DTEND;VALUE=DATE-TIME:20150424T190000
DTSTAMP:20171107T171854
CREATED:20150330T105919
LAST-MODIFIED:20150408T190707
UID:1894@http://imusic.ie
SUMMARY:Dermot Healy event at Cúirt Literature Festival, Galway
DESCRIPTION:Playing a piece from music performed with Dermot Healy for 'The Ballyconnell clolours' from 1988 - 2010. Item in a dedicated commemorative night of poetry\, music and readings celebrating the poet's work and life. Full details on Cúirt website.
LOCATION:Galway
URL:http://imusic.ie/event/dermot-healy-event-at-cuirt-literature-festival-galway/
END:VEVENT
END:VCALENDAR