BEGIN:VCALENDAR
VERSION:2.0
PRODID:-//Fintan Vallely//NONSGML v1.0//EN
CALSCALE:GREGORIAN
METHOD:PUBLISH
X-WR-CALNAME:Fintan Vallely
X-ORIGINAL-URL:http://imusic.ie
X-WR-CALDESC:Events for Fintan Vallely
X-WR-TIMEZONE:Europe/Dublin
BEGIN:VEVENT
DTSTART;VALUE=DATE:20131023
DTEND;VALUE=DATE:20131024
DTSTAMP:20171107T172427
CREATED:20131014T135822
LAST-MODIFIED:20131014T135829
UID:1555@http://imusic.ie
SUMMARY:Discussion in Rathmines Library - A Sense of Place
DESCRIPTION:'A Sense of Place’\, Literary Evening at Rathmines Library\, Lr. Rathmines Rd.\, Dublin 6    Forum with other local authors discussing the locality and how it may have influenced their writing\, chaired by Niall MacMonagle. With: - Evelyn Conlon\, Macdara Woods\, Siobhán Parkinson and Fintan Vallely on Wednesday 23rd October\, 6.30pm
LOCATION:157 Lr Rathmines Road
URL:http://imusic.ie/event/discussion-in-rathmines-library-a-sense-of-place/
END:VEVENT
END:VCALENDAR