BEGIN:VCALENDAR
VERSION:2.0
PRODID:-//Fintan Vallely//NONSGML v1.0//EN
CALSCALE:GREGORIAN
METHOD:PUBLISH
X-WR-CALNAME:Fintan Vallely
X-ORIGINAL-URL:http://imusic.ie
X-WR-CALDESC:Events for Fintan Vallely
X-WR-TIMEZONE:Europe/Dublin
BEGIN:VEVENT
DTSTART;VALUE=DATE:20110819
DTEND;VALUE=DATE:20110820
DTSTAMP:20171107T174039
CREATED:20111011T060228
LAST-MODIFIED:20111011T060228
UID:905@http://imusic.ie
SUMMARY:Fleadh Cheoil na hÉireann lecture - Myth and Majesty in the Rise of the Irish Drum (Cavan)
DESCRIPTION:Hunting for Borrane  Flute\, speech\, song and bodhrán presentation with Trevor Beury and Tim Lyons at Fleadh Cheoil na hÉireann\, Cavan - "Hunting for Borrane… myth and majesty in the rise of the Irish drum."
LOCATION:
URL:http://imusic.ie/event/fleadh-cheoil-na-heireann-lecture-myth-and-majesty-in-the-rise-of-the-irish-drum-cavan/
END:VEVENT
END:VCALENDAR