BEGIN:VCALENDAR
VERSION:2.0
PRODID:-//Fintan Vallely//NONSGML v1.0//EN
CALSCALE:GREGORIAN
METHOD:PUBLISH
X-WR-CALNAME:Fintan Vallely
X-ORIGINAL-URL:http://imusic.ie
X-WR-CALDESC:Events for Fintan Vallely
X-WR-TIMEZONE:Europe/Dublin
BEGIN:VEVENT
DTSTART;VALUE=DATE-TIME:20150707T200000
DTEND;VALUE=DATE-TIME:20150707T203000
DTSTAMP:20171107T171834
CREATED:20150330T110948
LAST-MODIFIED:20151204T111115
UID:1900@http://imusic.ie
SUMMARY:Flute recital at Scoil Samhraidh Willie Clancy, Clare
DESCRIPTION:[Photo Nick Lethert]    Playing in flute recital at the Willie Clancy Summer School; concert starts 7pm. Also teaching flute here for the week.
LOCATION:
URL:http://imusic.ie/event/flute-recital-at-scoil-samhraidh-willie-clancy-clare/
END:VEVENT
END:VCALENDAR