BEGIN:VCALENDAR
VERSION:2.0
PRODID:-//Fintan Vallely//NONSGML v1.0//EN
CALSCALE:GREGORIAN
METHOD:PUBLISH
X-WR-CALNAME:Fintan Vallely
X-ORIGINAL-URL:http://imusic.ie
X-WR-CALDESC:Events for Fintan Vallely
X-WR-TIMEZONE:Europe/Dublin
BEGIN:VEVENT
DTSTART;VALUE=DATE-TIME:20150813T080000
DTEND;VALUE=DATE-TIME:20150813T170000
DTSTAMP:20171107T171328
CREATED:20150807T201619
LAST-MODIFIED:20151204T110242
UID:1990@http://imusic.ie
SUMMARY:FLUTE ROUTES TO 2015 - A history of the flute in Ireland
DESCRIPTION:Lecture at Fleadh Cheoil na hÉireann\, Sligo town. Methodist Church\, 2pm\, Thursday 13th August. A pictorial examination the history of the flute in Ireland\, its introduction by the military\, its adoption by Irish political movements and its distinctive colour in Traditional music today. Part of doctoral research which is to be published in 2016\, this multi-media lecture looks at recreational and [photo by Jacques Nutan]                                                        political performance on different forms of flutes over three centuries\, seeing interrelationships among taste\, playing skills\, repertories\, levels of enthusiasm\, identity\, historical era and geographical locality. The flute has been a key part of both Irish nationalism and Ulster loyalism\, and today we see a major cultural transfer of skills from the political flute to the concert one\, a revolution in traditional-music revival. Fuller details of the context of this talk are on the web document. The overall event information\, venue and other details are on the web also.
LOCATION:Fleadh Cheoil na hÉireann
URL:http://imusic.ie/event/flute-routes-to-2015-a-history-of-the-flute-in-ireland/
END:VEVENT
END:VCALENDAR