BEGIN:VCALENDAR
VERSION:2.0
PRODID:-//Fintan Vallely//NONSGML v1.0//EN
CALSCALE:GREGORIAN
METHOD:PUBLISH
X-WR-CALNAME:Fintan Vallely
X-ORIGINAL-URL:http://imusic.ie
X-WR-CALDESC:Events for Fintan Vallely
X-WR-TIMEZONE:Europe/Dublin
BEGIN:VEVENT
DTSTART;VALUE=DATE:20130708
DTEND;VALUE=DATE:20130714
DTSTAMP:20171107T172710
CREATED:20130715T122147
LAST-MODIFIED:20131014T140250
UID:1427@http://imusic.ie
SUMMARY:Flute tuition at Scoil Samhraidh Willie Clancy, Miltown Malbay, Co. Clare
DESCRIPTION:Teaching flute for the week\, 10am - 1pm Monday - Saturday    Flute performance in concert on Tuesday 9th
LOCATION:
URL:http://imusic.ie/event/flute-tuition-at-scoil-samhraidh-willie-clancy-miltown-malbay-co-clare/
END:VEVENT
END:VCALENDAR