BEGIN:VCALENDAR
VERSION:2.0
PRODID:-//Fintan Vallely//NONSGML v1.0//EN
CALSCALE:GREGORIAN
METHOD:PUBLISH
X-WR-CALNAME:Fintan Vallely
X-ORIGINAL-URL:http://imusic.ie
X-WR-CALDESC:Events for Fintan Vallely
X-WR-TIMEZONE:Europe/Dublin
BEGIN:VEVENT
DTSTART;VALUE=DATE:20121007
DTEND;VALUE=DATE:20121008
DTSTAMP:20171107T173553
CREATED:20121002T132917
LAST-MODIFIED:20131014T140324
UID:1129@http://imusic.ie
SUMMARY:Flute workshop at Circolo ARCI arcobaleno (Roma)
DESCRIPTION:Flute teaching workshop. Afternoon.
LOCATION:Garbatella
URL:http://imusic.ie/event/flute-workshop-at-circolo-arci-arcobaleno-roma/
END:VEVENT
END:VCALENDAR