BEGIN:VCALENDAR
VERSION:2.0
PRODID:-//Fintan Vallely//NONSGML v1.0//EN
CALSCALE:GREGORIAN
METHOD:PUBLISH
X-WR-CALNAME:Fintan Vallely
X-ORIGINAL-URL:http://imusic.ie
X-WR-CALDESC:Events for Fintan Vallely
X-WR-TIMEZONE:Europe/Dublin
BEGIN:VEVENT
DTSTART;VALUE=DATE:20130928
DTEND;VALUE=DATE:20130929
DTSTAMP:20171107T172517
CREATED:20130901T045946
LAST-MODIFIED:20131002T141956
UID:1541@http://imusic.ie
SUMMARY:Folk by the Sea festival, Kiama, NSW
DESCRIPTION:Performing at this new festival run by the Illiawarra Folk Club organisers. See the full programme.
LOCATION:Kiama
URL:http://imusic.ie/event/folk-by-the-sea-festival-kiama-nsw/
END:VEVENT
END:VCALENDAR