BEGIN:VCALENDAR
VERSION:2.0
PRODID:-//Fintan Vallely//NONSGML v1.0//EN
CALSCALE:GREGORIAN
METHOD:PUBLISH
X-WR-CALNAME:Fintan Vallely
X-ORIGINAL-URL:http://imusic.ie
X-WR-CALDESC:Events for Fintan Vallely
X-WR-TIMEZONE:Europe/Dublin
BEGIN:VEVENT
DTSTART;VALUE=DATE:20140405
DTEND;VALUE=DATE:20140406
DTSTAMP:20171107T172153
CREATED:20140401T010510
LAST-MODIFIED:20140401T010707
UID:1711@http://imusic.ie
SUMMARY:Formal opening of Armagh Pipers' Club new building
DESCRIPTION:Speaking at the formal opening of the new premises of  Armagh Pipers' Club\, Scotch Street\, Armagh.  LAUNCH OF ÁRAS NA BPÍOBAIRÍ – SATURDAY 5th APRIL  ‘OPEN DAY’ AT ÁRAS NA BPÍOBAIRÍ  The official launching of Áras na bPíobairí will take place during the open day beginning 11.00 am and continuing to 5.00pm on Saturday April 5th. Club members and others will play at different times during the day from 11.00am onwards and volunteers will provide teas\, staff the shop and to meet the general public and explain the work of the club.    PROGRAMME    FRIDAY 4th April – FONN FRIDAY Singing session 8.00pm at Áras na bPíobairí – Session afterwards in De Averell House from 10.00pm-12.00pm.    SATURDAY 5th April – OPEN DAY at Áras na bPíobairí from 11.00am – 5.00pm    SATURDAY 5th April – OFFICIAL LAUNCH 3.00pm    MONDAY 7th APRIL – FAMILY SESSION - 7.00pm Beginner Singers &amp; Junior classes – 8.00pm Tea break – 8.30pm Intermediate\, Senior &amp; Adult classes
LOCATION:Scotch Street
URL:http://imusic.ie/event/formal-opening-of-armagh-pipers-club-new-building/
END:VEVENT
END:VCALENDAR