BEGIN:VCALENDAR
VERSION:2.0
PRODID:-//Fintan Vallely//NONSGML v1.0//EN
CALSCALE:GREGORIAN
METHOD:PUBLISH
X-WR-CALNAME:Fintan Vallely
X-ORIGINAL-URL:http://imusic.ie
X-WR-CALDESC:Events for Fintan Vallely
X-WR-TIMEZONE:Europe/Dublin
BEGIN:VEVENT
DTSTART;VALUE=DATE:20131222
DTEND;VALUE=DATE:20131223
DTSTAMP:20171107T172323
CREATED:20131230T202058
LAST-MODIFIED:20131230T202058
UID:1637@http://imusic.ie
SUMMARY:Gathering concert in Dundalk
DESCRIPTION:Christmas-New Year gathering-in concert in the Spirit Store\, Dundalk. Organised by Gerry O'Connor. 8.30 PM. With local and other artistes\, and a reading by novelist Evelyn Conlon.
LOCATION:The Docks
URL:http://imusic.ie/event/gathering-concert-in-dundalk/
END:VEVENT
END:VCALENDAR