BEGIN:VCALENDAR
VERSION:2.0
PRODID:-//Fintan Vallely//NONSGML v1.0//EN
CALSCALE:GREGORIAN
METHOD:PUBLISH
X-WR-CALNAME:Fintan Vallely
X-ORIGINAL-URL:http://imusic.ie
X-WR-CALDESC:Events for Fintan Vallely
X-WR-TIMEZONE:Europe/Dublin
BEGIN:VEVENT
DTSTART;VALUE=DATE:20130616
DTEND;VALUE=DATE:20130617
DTSTAMP:20171107T173350
CREATED:20130131T000844
LAST-MODIFIED:20130721T222730
UID:1254@http://imusic.ie
SUMMARY:GRENZTÖNE - Stuttgart, Germany; recital with Gerry O'Connor
DESCRIPTION:Keltische Klang Konzepte    Traditionelle und neue irische Musik im interkulturellen Dialog    Fiddle and flute recital: Fintan Vallely and Gerry O'Connor: 4pm    Project Goal: This innovative project seeks to reach an intergenerational Public through the trans-cultural  language of music as the medium for dialogue. With the participation of international artists from Ireland\, Germany and France; the prize winning German stage director Andrea Haupt;  the Music Theatre Class and the talented young music students from the Stuttgart Musikschule together with the older generation of experimenters\, we will explore cultural issues thru dialogue\, movement\, text experimentation and visual arts. Ireland has a 5000 yrs old culture whose roots may be seen in the Celtic findings in Baden-Württemberg. Music is by its very nature\, an international language.  Although traditional Irish music enjoys a certain popularity in Germany\, the rich heritage of contemporary Irish compositions and the issues they address are little known.  This project seeks to emphasis the cultural importance of Ireland as it assumes the EU presidency in 2013.        &nbsp;
LOCATION:Rotebühlplatz Rotebülplatz 28 70173 Stuttgart Germ
URL:http://imusic.ie/event/grenztone-borderline-sounds-stuttgart-germany/
END:VEVENT
END:VCALENDAR