BEGIN:VCALENDAR
VERSION:2.0
PRODID:-//Fintan Vallely//NONSGML v1.0//EN
CALSCALE:GREGORIAN
METHOD:PUBLISH
X-WR-CALNAME:Fintan Vallely
X-ORIGINAL-URL:http://imusic.ie
X-WR-CALDESC:Events for Fintan Vallely
X-WR-TIMEZONE:Europe/Dublin
BEGIN:VEVENT
DTSTART;VALUE=DATE:20101022
DTEND;VALUE=DATE:20101023
DTSTAMP:20171107T174152
CREATED:20111011T035336
LAST-MODIFIED:20130715T121256
UID:872@http://imusic.ie
SUMMARY:Guest Lecture at Threads and Yarns Cultural Forum, Foxford, Co. Mayo
DESCRIPTION:Fintan Vallely: Comic and satirical song in the Traditional music scene.  Guest lecture at Threads and Yarns cultural forum\, Foxford\, Co. Mayo\, Friday evening\, 22nd October\, 2010.
LOCATION:
URL:http://imusic.ie/event/guest-lecture-at-threads-and-yarns-cultural-forum/
END:VEVENT
END:VCALENDAR