BEGIN:VCALENDAR
VERSION:2.0
PRODID:-//Fintan Vallely//NONSGML v1.0//EN
CALSCALE:GREGORIAN
METHOD:PUBLISH
X-WR-CALNAME:Fintan Vallely
X-ORIGINAL-URL:http://imusic.ie
X-WR-CALDESC:Events for Fintan Vallely
X-WR-TIMEZONE:Europe/Dublin
BEGIN:VEVENT
DTSTART;VALUE=DATE:20121108
DTEND;VALUE=DATE:20121201
DTSTAMP:20171107T173541
CREATED:20121108T223049
LAST-MODIFIED:20130130T234025
UID:1168@http://imusic.ie
SUMMARY:Guest lecturer at Newcastle University (England) for November, 2012
DESCRIPTION:Fintan Vallely will be acting lecturer in Irish Traditional music  and music performance on the University of Newcastle on Tyne's Folk Music degree programme. He is deputising for Desi Wilkinson who is on sabbatical.
LOCATION:Newcastle University
URL:http://imusic.ie/event/guest-lecturer-at-newcastle-university-england-for-november-2012/
END:VEVENT
END:VCALENDAR