BEGIN:VCALENDAR
VERSION:2.0
PRODID:-//Fintan Vallely//NONSGML v1.0//EN
CALSCALE:GREGORIAN
METHOD:PUBLISH
X-WR-CALNAME:Fintan Vallely
X-ORIGINAL-URL:http://imusic.ie
X-WR-CALDESC:Events for Fintan Vallely
X-WR-TIMEZONE:Europe/Dublin
BEGIN:VEVENT
DTSTART;VALUE=DATE:20130803
DTEND;VALUE=DATE:20130804
DTSTAMP:20171107T173428
CREATED:20130130T141709
LAST-MODIFIED:20130725T102300
UID:1244@http://imusic.ie
SUMMARY:Guest Paper at Shamrock in the Bush, Galong, Australia
DESCRIPTION:Guest lecture at ‘Shamrock in the Bush’ Irish Studies symposium\, Galong NSW\, Australia.  Dancing on the page: the vitality of the printed word and image in oral music\, song and dance traditions.  
LOCATION:
URL:http://imusic.ie/event/guest-paper-at-shamrock-in-the-bush-galong-australia/
END:VEVENT
END:VCALENDAR