BEGIN:VCALENDAR
VERSION:2.0
PRODID:-//Fintan Vallely//NONSGML v1.0//EN
CALSCALE:GREGORIAN
METHOD:PUBLISH
X-WR-CALNAME:Fintan Vallely
X-ORIGINAL-URL:http://imusic.ie
X-WR-CALDESC:Events for Fintan Vallely
X-WR-TIMEZONE:Europe/Dublin
BEGIN:VEVENT
DTSTART;VALUE=DATE:20100807
DTEND;VALUE=DATE:20100808
DTSTAMP:20171107T174142
CREATED:20111011T035929
LAST-MODIFIED:20130715T121329
UID:874@http://imusic.ie
SUMMARY:Guest Paper to Shamrock in the Bush, Galong NSW, Australia
DESCRIPTION:Fintan Vallely: ‘Tír na nÓg in 2010: Keeping Traditional music forever young’.  Issues of passion\, canon and change arising from the compilation of the encyclopedia Companion to Irish Traditional Music in 1999\, and its revision a decade later. Guest lecture at ‘Shamrock in the Bush’ Irish Studies symposium\, Galong NSW\, Australia.
LOCATION:
URL:http://imusic.ie/event/guest-paper-to-shamrock-in-the-bush/
END:VEVENT
END:VCALENDAR