BEGIN:VCALENDAR
VERSION:2.0
PRODID:-//Fintan Vallely//NONSGML v1.0//EN
CALSCALE:GREGORIAN
METHOD:PUBLISH
X-WR-CALNAME:Fintan Vallely
X-ORIGINAL-URL:http://imusic.ie
X-WR-CALDESC:Events for Fintan Vallely
X-WR-TIMEZONE:Europe/Dublin
BEGIN:VEVENT
DTSTART;VALUE=DATE:20130912
DTEND;VALUE=DATE:20130913
DTSTAMP:20171107T172702
CREATED:20130721T220541
LAST-MODIFIED:20131002T142111
UID:1434@http://imusic.ie
SUMMARY:Guest talk at Music Dept., Monash University, Melbourne
DESCRIPTION:'Compánach' - Companion: Interpreting the history and revival of Irish Traditional music in images\, text and music.   Using images\, references to historical and contemporary literature\, recordings and live performance\, Irish musician and researcher Dr. Fintan Vallely interprets the nature\, history and re-popularisation of Irish Traditional music.      Purchasing the book    Regrettably\, all copies brought to Australia on this visit have been sold\, but copies are available post free from The Book Depository. The book is also available on Kindle and ibooks digital editions at c. half the hard-back price.
LOCATION:
URL:http://imusic.ie/event/guest-talk-at-music-dept-monash-university-melbourne/
END:VEVENT
END:VCALENDAR