BEGIN:VCALENDAR
VERSION:2.0
PRODID:-//Fintan Vallely//NONSGML v1.0//EN
CALSCALE:GREGORIAN
METHOD:PUBLISH
X-WR-CALNAME:Fintan Vallely
X-ORIGINAL-URL:http://imusic.ie
X-WR-CALDESC:Events for Fintan Vallely
X-WR-TIMEZONE:Europe/Dublin
BEGIN:VEVENT
DTSTART;VALUE=DATE-TIME:20140403T193000
DTEND;VALUE=DATE-TIME:20140403T203000
DTSTAMP:20171107T172235
CREATED:20131231T123425
LAST-MODIFIED:20140402T162421
UID:1654@http://imusic.ie
SUMMARY:Illustrated talk on the compilation of the first encyclopedia of Irish Traditional Music
DESCRIPTION:"Assembling the Companion to Irish Traditional Music. The issues\, politics\, challenges and practicalities of compiling the first encyclopedia of Traditional music in Ireland".     An illustrated talk with music and images. At Newry City Library\, 3rd  April 2014 \, 7.30pm
LOCATION:Co. Down
URL:http://imusic.ie/event/illustrated-talk-on-the-compilation-of-the-first-encyclopedia-of-irish-traditional-music/
END:VEVENT
END:VCALENDAR