BEGIN:VCALENDAR
VERSION:2.0
PRODID:-//Fintan Vallely//NONSGML v1.0//EN
CALSCALE:GREGORIAN
METHOD:PUBLISH
X-WR-CALNAME:Fintan Vallely
X-ORIGINAL-URL:http://imusic.ie
X-WR-CALDESC:Events for Fintan Vallely
X-WR-TIMEZONE:Europe/Dublin
BEGIN:VEVENT
DTSTART;VALUE=DATE-TIME:20140416T193000
DTEND;VALUE=DATE-TIME:20140416T203000
DTSTAMP:20171107T172252
CREATED:20131231T010247
LAST-MODIFIED:20131231T123714
UID:1646@http://imusic.ie
SUMMARY:Illustrated talk on the Flute in Ireland, Castlewellan, Co. Down
DESCRIPTION: “Marching to Dancing\, Military to Recreation: A talk and Performance which tells the Story of the Flute in the Music of Ireland". Hosted by Castlewellan Futures group at  Hillyard House\, Castlewellan.  Wednesday evening\, 16th April at 7.30pm
LOCATION:Hillyard House
URL:http://imusic.ie/event/illustrated-talk-on-the-flute-in-ireland/
END:VEVENT
END:VCALENDAR