BEGIN:VCALENDAR
VERSION:2.0
PRODID:-//Fintan Vallely//NONSGML v1.0//EN
CALSCALE:GREGORIAN
METHOD:PUBLISH
X-WR-CALNAME:Fintan Vallely
X-ORIGINAL-URL:http://imusic.ie
X-WR-CALDESC:Events for Fintan Vallely
X-WR-TIMEZONE:Europe/Dublin
BEGIN:VEVENT
DTSTART;VALUE=DATE:20120818
DTEND;VALUE=DATE:20120819
DTSTAMP:20171107T173704
CREATED:20120527T132652
LAST-MODIFIED:20120529T143439
UID:1019@http://imusic.ie
SUMMARY:Launch of Companion at Fleadh Cheoil na hÉireann, Cavan
DESCRIPTION:The Companion will be given an Ulster launch on saturday afternoon\, 18th August\, the main weekend of the All-Ireland fleadh at Cavan town\, at 12.30 (mid day) in the Farnham Arms Hotel Conference room. At this\, Fintan Vallely will give an illustrated lecture on the compilation of the book. This will be part of a programmed formal event sponsored by the Arts Council's Deis Traditional Music Awards body. The event opens with 'Another World' – a lecture by Marcas Ó Murchú at 11 am.  
LOCATION:
URL:http://imusic.ie/event/launch-of-companion-at-fleadh-cheoil-na-heireann-cavan/
END:VEVENT
END:VCALENDAR