BEGIN:VCALENDAR
VERSION:2.0
PRODID:-//Fintan Vallely//NONSGML v1.0//EN
CALSCALE:GREGORIAN
METHOD:PUBLISH
X-WR-CALNAME:Fintan Vallely
X-ORIGINAL-URL:http://imusic.ie
X-WR-CALDESC:Events for Fintan Vallely
X-WR-TIMEZONE:Europe/Dublin
BEGIN:VEVENT
DTSTART;VALUE=DATE-TIME:20130917T180000
DTEND;VALUE=DATE-TIME:20130917T193000
DTSTAMP:20171107T172502
CREATED:20130902T034501
LAST-MODIFIED:20131002T142046
UID:1544@http://imusic.ie
SUMMARY:Melbourne Irish Studies, Newman College, Melbourne University
DESCRIPTION:Passion\, canon and change in the compilation of the encyclopedia of Irish Traditional Music.    6pm-7.30pm      Fintan Vallely discusses the challenges to music and musicians which were raised during and by the assembly of the Companion to Irish Traditional Music.     Purchasing the book    Regrettably\, all copies brought to Australia on this visit have been sold\, but copies are available post free from The Book Depository. The book is also available on Kindle and ibooks digital editions at c. half the hard-back price.      
LOCATION:The Oratory, Newman House
URL:http://imusic.ie/event/melbourne-irish-studies-newman-college-melbourne-university/
END:VEVENT
END:VCALENDAR