BEGIN:VCALENDAR
VERSION:2.0
PRODID:-//Fintan Vallely//NONSGML v1.0//EN
CALSCALE:GREGORIAN
METHOD:PUBLISH
X-WR-CALNAME:Fintan Vallely
X-ORIGINAL-URL:http://imusic.ie
X-WR-CALDESC:Events for Fintan Vallely
X-WR-TIMEZONE:Europe/Dublin
BEGIN:VEVENT
DTSTART;VALUE=DATE:20100710
DTEND;VALUE=DATE:20100711
DTSTAMP:20171107T174123
CREATED:20111011T040323
LAST-MODIFIED:20111011T040323
UID:876@http://imusic.ie
SUMMARY:Melbourne - Monash University Guest Paper
DESCRIPTION:Fintan Vallely: ‘The Irish drum - stone-age innovation in the digital age’\, guest paper at Monash University\, Melbourne\, Research and Work-in-Progress seminars.
LOCATION:
URL:http://imusic.ie/event/melbourne-monash-university-guest-paper/
END:VEVENT
END:VCALENDAR