BEGIN:VCALENDAR
VERSION:2.0
PRODID:-//Fintan Vallely//NONSGML v1.0//EN
CALSCALE:GREGORIAN
METHOD:PUBLISH
X-WR-CALNAME:Fintan Vallely
X-ORIGINAL-URL:http://imusic.ie
X-WR-CALDESC:Events for Fintan Vallely
X-WR-TIMEZONE:Europe/Dublin
BEGIN:VEVENT
DTSTART;VALUE=DATE:20130601
DTEND;VALUE=DATE:20130602
DTSTAMP:20171107T172905
CREATED:20130515T075140
LAST-MODIFIED:20130515T075527
UID:1396@http://imusic.ie
SUMMARY:Mickey McKenna Memorial concert, Trim
DESCRIPTION:Trim library\, Main Street\,  Trim\, a concert in celebration of Mickey McKenna's life and music.  With members of the McKenna family\, Gandharba\, (Hiralal &amp; Ramji\, Nepalese musicians) Jimmy Kelly (banjo)\,  Dave O'Rourke (jazz guitar; Alternative Entertainments first guitar teacher). 7.30 pm
LOCATION:Main Street
URL:http://imusic.ie/event/mickey-mckenna-memorial-concert-trim/
END:VEVENT
END:VCALENDAR