BEGIN:VCALENDAR
VERSION:2.0
PRODID:-//Fintan Vallely//NONSGML v1.0//EN
CALSCALE:GREGORIAN
METHOD:PUBLISH
X-WR-CALNAME:Fintan Vallely
X-ORIGINAL-URL:http://imusic.ie
X-WR-CALDESC:Events for Fintan Vallely
X-WR-TIMEZONE:Europe/Dublin
BEGIN:VEVENT
DTSTART;VALUE=DATE:20130617
DTEND;VALUE=DATE:20130618
DTSTAMP:20171107T173049
CREATED:20130421T171007
LAST-MODIFIED:20130715T121905
UID:1352@http://imusic.ie
SUMMARY:Munich Folk Club with Gerry O'Connor, Germany
DESCRIPTION:Performance with Gerry O'Connor at Munich Folk Club. Music and song of South Ulster and beyond.
LOCATION:
URL:http://imusic.ie/event/munich-folk-club-with-gerry-oconnor/
END:VEVENT
END:VCALENDAR