BEGIN:VCALENDAR
VERSION:2.0
PRODID:-//Fintan Vallely//NONSGML v1.0//EN
CALSCALE:GREGORIAN
METHOD:PUBLISH
X-WR-CALNAME:Fintan Vallely
X-ORIGINAL-URL:http://imusic.ie
X-WR-CALDESC:Events for Fintan Vallely
X-WR-TIMEZONE:Europe/Dublin
BEGIN:VEVENT
DTSTART;VALUE=DATE:20130829
DTEND;VALUE=DATE:20130830
DTSTAMP:20171107T173125
CREATED:20130416T120050
LAST-MODIFIED:20131002T142144
UID:1338@http://imusic.ie
SUMMARY:Guest presentation, Canberra National Library
DESCRIPTION:    Dancing on the Page: The Role of the Printed Word in Traditional Music Revivals          Using images\, recordings and live performance\, this talk is about the role played in Irish Traditional music revival by books on music\, song\, dance\, emigration and the Irish Diaspora . 6pm        
LOCATION:
URL:http://imusic.ie/event/music-and-images-illustrated-presentation-canberra-national-library/
END:VEVENT
END:VCALENDAR