BEGIN:VCALENDAR
VERSION:2.0
PRODID:-//Fintan Vallely//NONSGML v1.0//EN
CALSCALE:GREGORIAN
METHOD:PUBLISH
X-WR-CALNAME:Fintan Vallely
X-ORIGINAL-URL:http://imusic.ie
X-WR-CALDESC:Events for Fintan Vallely
X-WR-TIMEZONE:Europe/Dublin
BEGIN:VEVENT
DTSTART;VALUE=DATE:20130128
DTEND;VALUE=DATE:20130130
DTSTAMP:20171107T173514
CREATED:20130129T220507
LAST-MODIFIED:20130715T120410
UID:1230@http://imusic.ie
SUMMARY:Music dissemination and transmission in Ireland (DIT, Dublin)
DESCRIPTION:Observations on the social\, commercial\, cultural and technological dimensions of music transmission. Deals with aural learning\, music notation\, writing about music\, commercialism\, recording\, radio\, television media and organisations.
LOCATION:Lower Rathmines Road
URL:http://imusic.ie/event/music-dissemination-and-transmission-in-ireland/
END:VEVENT
END:VCALENDAR