BEGIN:VCALENDAR
VERSION:2.0
PRODID:-//Fintan Vallely//NONSGML v1.0//EN
CALSCALE:GREGORIAN
METHOD:PUBLISH
X-WR-CALNAME:Fintan Vallely
X-ORIGINAL-URL:http://imusic.ie
X-WR-CALDESC:Events for Fintan Vallely
X-WR-TIMEZONE:Europe/Dublin
BEGIN:VEVENT
DTSTART;VALUE=DATE-TIME:20140916T150000
DTEND;VALUE=DATE-TIME:20140916T170000
DTSTAMP:20171107T172055
CREATED:20140806T150907
LAST-MODIFIED:20140826T222529
UID:1786@http://imusic.ie
SUMMARY:Music instrument or household utensil? De-pixellating the fallacies and romance of the story of the mighty bodhrán
DESCRIPTION:The popular belief is that the bodhrán drum is the oldest instrument on the planet\, stone-age technology that has survived into the age of digital dissemination. Fintan Vallely challenges the simplicity of the view with data collected in the National Museum at Castlebar\, the Dept of Irish Folklore\, from modern Irish literature and from recalled 1960s – ‘70s conversations. He reassigns the available data to suggests that today’s ‘bodhrán’ is the popular-music\, Black and White Minstrels’ tambourine upon which has been forced the form\, identity and history of a ubiquitous\, pre-Famine utensil. He concludes that the bodhrán in fact is our newest instrument\, and should be celebrated for that alone: a unique adaptation that has in less than a half century won a sense of ubiquitousness that it took the harp a millennium to achieve.    3pm - 5 pm\, all welcome.
LOCATION:Belfield
URL:http://imusic.ie/event/music-instrument-or-household-utensil-the-mythology-of-the-mighty-bodhran/
END:VEVENT
END:VCALENDAR