BEGIN:VCALENDAR
VERSION:2.0
PRODID:-//Fintan Vallely//NONSGML v1.0//EN
CALSCALE:GREGORIAN
METHOD:PUBLISH
X-WR-CALNAME:Fintan Vallely
X-ORIGINAL-URL:http://imusic.ie
X-WR-CALDESC:Events for Fintan Vallely
X-WR-TIMEZONE:Europe/Dublin
BEGIN:VEVENT
DTSTART;VALUE=DATE-TIME:20150313T200000
DTEND;VALUE=DATE-TIME:20150313T230000
DTSTAMP:20171107T171938
CREATED:20150125T002801
LAST-MODIFIED:20150226T173700
UID:1867@http://imusic.ie
SUMMARY:Performance at Musical Traditions Folk Club, The King and Queen, London
DESCRIPTION:St. Patrick's Day celebration night with Fintan And Sheena Vallely with John Say: flutes\, fiddle and bodhran with songs
LOCATION:1, Foley St
URL:http://imusic.ie/event/performance-at-musical-traditions-folk-club-the-king-and-queen-london/
END:VEVENT
END:VCALENDAR