BEGIN:VCALENDAR
VERSION:2.0
PRODID:-//Fintan Vallely//NONSGML v1.0//EN
CALSCALE:GREGORIAN
METHOD:PUBLISH
X-WR-CALNAME:Fintan Vallely
X-ORIGINAL-URL:http://imusic.ie
X-WR-CALDESC:Events for Fintan Vallely
X-WR-TIMEZONE:Europe/Dublin
BEGIN:VEVENT
DTSTART;VALUE=DATE:20130825
DTEND;VALUE=DATE:20130826
DTSTAMP:20171107T173149
CREATED:20130416T115124
LAST-MODIFIED:20130721T222616
UID:1335@http://imusic.ie
SUMMARY:Guest performance at Famine Commemoration Ceremony, Hyde Park Barracks, Sydney
DESCRIPTION:Music recital in the course of the Commemoration event at Hyde Park Barracks\, Sydney\,  Australia    
LOCATION:
URL:http://imusic.ie/event/performing-at-famine-commemoration-ceremony-hyde-park-barracks-sydney/
END:VEVENT
END:VCALENDAR