BEGIN:VCALENDAR
VERSION:2.0
PRODID:-//Fintan Vallely//NONSGML v1.0//EN
CALSCALE:GREGORIAN
METHOD:PUBLISH
X-WR-CALNAME:Fintan Vallely
X-ORIGINAL-URL:http://imusic.ie
X-WR-CALDESC:Events for Fintan Vallely
X-WR-TIMEZONE:Europe/Dublin
BEGIN:VEVENT
DTSTART;VALUE=DATE:20130823
DTEND;VALUE=DATE:20130824
DTSTAMP:20171107T173200
CREATED:20130416T114943
LAST-MODIFIED:20131016T101650
UID:1332@http://imusic.ie
SUMMARY:Guest spot at Famine Commemoration dinner, Sydney
DESCRIPTION:Guest spot in the course of the Famine Commemoration dinner in Parliament Buildings\, Sydney\, New South Wales\, Australia.    
LOCATION:
URL:http://imusic.ie/event/performing-at-famine-commemoration-dinner-sydney/
END:VEVENT
END:VCALENDAR