BEGIN:VCALENDAR
VERSION:2.0
PRODID:-//Fintan Vallely//NONSGML v1.0//EN
CALSCALE:GREGORIAN
METHOD:PUBLISH
X-WR-CALNAME:Fintan Vallely
X-ORIGINAL-URL:http://imusic.ie
X-WR-CALDESC:Events for Fintan Vallely
X-WR-TIMEZONE:Europe/Dublin
BEGIN:VEVENT
DTSTART;VALUE=DATE:20140410
DTEND;VALUE=DATE:20140411
DTSTAMP:20171107T172204
CREATED:20140401T005058
LAST-MODIFIED:20140401T005315
UID:1708@http://imusic.ie
SUMMARY:Playing at Sunflower Folk Club, Belfast
DESCRIPTION:Music and song at the Sunflower.
LOCATION:65 Union Street,
URL:http://imusic.ie/event/playing-at-sunflower-folk-club-belfast/
END:VEVENT
END:VCALENDAR