BEGIN:VCALENDAR
VERSION:2.0
PRODID:-//Fintan Vallely//NONSGML v1.0//EN
CALSCALE:GREGORIAN
METHOD:PUBLISH
X-WR-CALNAME:Fintan Vallely
X-ORIGINAL-URL:http://imusic.ie
X-WR-CALDESC:Events for Fintan Vallely
X-WR-TIMEZONE:Europe/Dublin
BEGIN:VEVENT
DTSTART;VALUE=DATE-TIME:20120709T100000
DTEND;VALUE=DATE-TIME:20120714T130000
DTSTAMP:20171107T173904
CREATED:20120125T150235
LAST-MODIFIED:20131014T140510
UID:944@http://imusic.ie
SUMMARY:Scoil Samhraidh Willie Clancy
DESCRIPTION:Teaching flute for the week during the summer school.
LOCATION:
URL:http://imusic.ie/event/scoil-samhraidh-willie-clancy/
END:VEVENT
END:VCALENDAR