BEGIN:VCALENDAR
VERSION:2.0
PRODID:-//Fintan Vallely//NONSGML v1.0//EN
CALSCALE:GREGORIAN
METHOD:PUBLISH
X-WR-CALNAME:Fintan Vallely
X-ORIGINAL-URL:http://imusic.ie
X-WR-CALDESC:Events for Fintan Vallely
X-WR-TIMEZONE:Europe/Dublin
BEGIN:VEVENT
DTSTART;VALUE=DATE:20141113
DTEND;VALUE=DATE:20141114
DTSTAMP:20171107T172042
CREATED:20141113T113600
LAST-MODIFIED:20141113T114602
UID:1801@http://imusic.ie
SUMMARY:Song performance at Sunflower Folk Club
DESCRIPTION:Sunflower folk club guest performance\, 65 Union Street\, Belfast (BT1 2JG). Starts 9pm. Thursday 13th November.
LOCATION:65 Union Street
URL:http://imusic.ie/event/song-performance-at-sunflower-folk-club/
END:VEVENT
END:VCALENDAR