BEGIN:VCALENDAR
VERSION:2.0
PRODID:-//Fintan Vallely//NONSGML v1.0//EN
CALSCALE:GREGORIAN
METHOD:PUBLISH
X-WR-CALNAME:Fintan Vallely
X-ORIGINAL-URL:http://imusic.ie
X-WR-CALDESC:Events for Fintan Vallely
X-WR-TIMEZONE:Europe/Dublin
BEGIN:VEVENT
DTSTART;VALUE=DATE:20130615
DTEND;VALUE=DATE:20130616
DTSTAMP:20171107T173002
CREATED:20130515T071921
LAST-MODIFIED:20130515T075617
UID:1385@http://imusic.ie
SUMMARY:Strassenfest at Sindelfingen, Germany, playing with Sheena Vallely
DESCRIPTION:Playing in duet with flutes and whistles with Sheena Vallely at the international street festival in Sindelfingen..    Sheena was taught at the renowned Armagh Pipers’ Club a decade after Fintan had helped set it up. She went on to develop her playing in London and is a well known session and dance player there and in Bristol. Their music comes from their diverse experience and travel\, session\, concert\, céilí dance and Folk festival performance. Sheena is also an accomplished visual artist. In the 1980s they played together as The Brattle\, and now are together for a short tour. Sheena has already played tours in Germany - with Berlin band Midnight Court\, with Sinéad Hayes and Tobi Kurig\, and with Robbie Boyle and band in Berlin; she is on several albums which range from the strict Traditional to the avant-garde.
LOCATION:Sindelfingen
URL:http://imusic.ie/event/strassenfest-at-sindelfingen-germany-playing-with-sheena-vallely/
END:VEVENT
END:VCALENDAR