BEGIN:VCALENDAR
VERSION:2.0
PRODID:-//Fintan Vallely//NONSGML v1.0//EN
CALSCALE:GREGORIAN
METHOD:PUBLISH
X-WR-CALNAME:Fintan Vallely
X-ORIGINAL-URL:http://imusic.ie
X-WR-CALDESC:Events for Fintan Vallely
X-WR-TIMEZONE:Europe/Dublin
BEGIN:VEVENT
DTSTART;VALUE=DATE:20130615
DTEND;VALUE=DATE:20130616
DTSTAMP:20171107T173228
CREATED:20130416T113504
LAST-MODIFIED:20130416T114452
UID:1323@http://imusic.ie
SUMMARY:Street concert at International Strassesfest, Sindelfingen.
DESCRIPTION:Festival performance Fintan Vallely and Gerry O'Connor at International Street Festival\, Sindelfingen
LOCATION:
URL:http://imusic.ie/event/street-concert-at-international-strassesfest-sindelfingen/
END:VEVENT
END:VCALENDAR