BEGIN:VCALENDAR
VERSION:2.0
PRODID:-//Fintan Vallely//NONSGML v1.0//EN
CALSCALE:GREGORIAN
METHOD:PUBLISH
X-WR-CALNAME:Fintan Vallely
X-ORIGINAL-URL:http://imusic.ie
X-WR-CALDESC:Events for Fintan Vallely
X-WR-TIMEZONE:Europe/Dublin
BEGIN:VEVENT
DTSTART;VALUE=DATE:20130404
DTEND;VALUE=DATE:20130408
DTSTAMP:20171107T173028
CREATED:20130421T171241
LAST-MODIFIED:20130421T171241
UID:1355@http://imusic.ie
SUMMARY:Teaching flute at Cruinniú na bhFliúit, Ballyvourney, West Cork
DESCRIPTION:Flute teaching at this year's Cruinniú\, classes at Ballyvourney. Thursday - Saturday\, including recitals and concerts.  See the organiser's website
LOCATION:
URL:http://imusic.ie/event/teaching-flute-at-cruinniu-na-bhfliuit-ballyvourney-west-cork/
END:VEVENT
END:VCALENDAR