BEGIN:VCALENDAR
VERSION:2.0
PRODID:-//Fintan Vallely//NONSGML v1.0//EN
CALSCALE:GREGORIAN
METHOD:PUBLISH
X-WR-CALNAME:Fintan Vallely
X-ORIGINAL-URL:http://imusic.ie
X-WR-CALDESC:Events for Fintan Vallely
X-WR-TIMEZONE:Europe/Dublin
BEGIN:VEVENT
DTSTART;VALUE=DATE:20130524
DTEND;VALUE=DATE:20130525
DTSTAMP:20171107T173252
CREATED:20130227T004451
LAST-MODIFIED:20130515T070229
UID:1301@http://imusic.ie
SUMMARY:Crosbhealach an Cheoil - The Crossroads Conference 2003, publication of papers
DESCRIPTION:Papers from the conference held on the Magee campus of University of Ulster\, Derry City\, Northern Ireland over 25-27 April\, 2003. These are a stimulating insight into the assessment and provision of traditional music education at all levels from the practical to the academic\, throughout the island of Ireland and abroad. While the concern and focus is on Irish Traditional music\, the ideas and methodologies presented in this landmark selection of papers take other European-style Folk / Traditional musics as well – those of Norway\, Scotland\, Isle of Man\, Northern England\, Newfoundland\, Mid West USA\, Norway and Brittany. The papers address group and one-to-one instrumental teaching of children in organised classes\, summer schools and seasonal workshops\, the specialised and well-established music schools\, third level teaching\, and also cover teaching via tutor books\, CD ROMs\, CD\, videos and the internet.    
LOCATION:Exchequer Street (off Dame St.)
URL:http://imusic.ie/event/the-complete-guide-to-playing-the-irish-flute-launch/
END:VEVENT
END:VCALENDAR