BEGIN:VCALENDAR
VERSION:2.0
PRODID:-//Fintan Vallely//NONSGML v1.0//EN
CALSCALE:GREGORIAN
METHOD:PUBLISH
X-WR-CALNAME:Fintan Vallely
X-ORIGINAL-URL:http://imusic.ie
X-WR-CALDESC:Events for Fintan Vallely
X-WR-TIMEZONE:Europe/Dublin
BEGIN:VEVENT
DTSTART;VALUE=DATE-TIME:20131127T180000
DTEND;VALUE=DATE-TIME:20131127T200000
DTSTAMP:20171107T173243
CREATED:20130227T005809
LAST-MODIFIED:20131119T103710
UID:1308@http://imusic.ie
SUMMARY:The Complete Guide to Playing the Irish Flute, new edition launch
DESCRIPTION:Matt Molloy will perform the honours for the launch of this new flute tutor at 6pm at the Harcourt Hotel\, Dublin. Refreshments provided\, and ALL flute players welcome … 
LOCATION:Harcourt Street
URL:http://imusic.ie/event/the-complete-guide-to-playing-the-irish-flute-new-edition-launch/
END:VEVENT
END:VCALENDAR